BEGIN:VCALENDAR
VERSION:2.0
PRODID:icalendar-ruby
CALSCALE:GREGORIAN
METHOD:PUBLISH
BEGIN:VEVENT
DTSTAMP:20260423T151523Z
UID:49-393462@leanderumc.org
DTSTART:20260426T170000Z
DTEND:20260426T180000Z
CLASS:PUBLIC
CREATED:20260422T134213
DESCRIPTION:Come hungry and bring a friend! Join us for an LUMC church fami
 ly potluck on April 26 in the Fellowship Hall right after the late service
 . \nBring your favorite dish to share—whether it’s a tried-and-true cl
 assic or something new—and get ready for good food\, great conversation\
 , and plenty of laughter. \nThere’s nothing better than some good old-fa
 shioned fellowship around the table\, and we’d love to have you there!
LAST-MODIFIED:20260422T134213
LOCATION:
SUMMARY:Family Potluck!
URL;VALUE=URI:https://www.leanderumc.org/events/family-potluck/2026-04-26
ATTACH;FILENAME=landscape-1434125879-54eb810932a0b-02-red-barn-food-spread-
 0514-s2-1.jpg;FMTTYPE=image/jpeg:https://dq5pwpg1q8ru0.cloudfront.net/2026
 /04/22/18/42/13/ff951b8a-2549-464e-946d-b42750cff8f9/landscape-1434125879-
 54eb810932a0b-02-red-barn-food-spread-0514-s2-1.jpg
END:VEVENT
END:VCALENDAR
