BEGIN:VCALENDAR
VERSION:2.0
PRODID:icalendar-ruby
CALSCALE:GREGORIAN
METHOD:PUBLISH
BEGIN:VEVENT
DTSTAMP:20260420T120912Z
UID:48-385641@leanderumc.org
DTSTART:20260508T220000Z
DTEND:20260511T000000Z
CLASS:PUBLIC
CREATED:20260417T135559
DESCRIPTION:May 8  |  5pm-Dusk\nMay 9 | 7am-Noon \nCome treasure hunting 
 for a good cause! The United Methodist Men are hosting a Yard Sale\, with 
 all proceeds going toward the general fund for the mission of LUMC.\n \nG
 ot items to donate? \nWe welcome your gently used goods! Please note: no l
 arge furniture\, TVs\, computers\, upholstered furniture\, or large applia
 nces can be accepted. \nItems can be brought to Fellowship Hall prior to 
 the event or the Friday of the event.\n\n\nIf weather interferes\, we will
  postpone to the next weekend.\n\n\nIf you'd like to volunteer for this\, 
 please feel free to reach out to Robert Felps at robertf@cybercompass.io.\
 n\n
LAST-MODIFIED:20260417T135559
LOCATION:
SUMMARY:LUMC Yard Sale!
URL;VALUE=URI:https://www.leanderumc.org/events/lumc-yard-sale/2026-05-08
ATTACH;FILENAME=umm-yard-sale-2.png;FMTTYPE=image/png:https://dq5pwpg1q8ru0
 .cloudfront.net/2026/04/17/18/55/59/93198a25-4d9c-4b9f-bd6c-1894b756aad5/u
 mm-yard-sale-2.png
END:VEVENT
END:VCALENDAR
